BEGIN:VCALENDAR
VERSION:2.0
PRODID:-//https://www.eruuf.org///NONSGML kigkonsult.se iCalcreator 2.10.15//
METHOD:PUBLISH
BEGIN:VEVENT
UID:20260421T022202UTC-8203J1vxpu@https://www.eruuf.org/
DTSTAMP:20260421T022202Z
DESCRIPTION:Volunteers are always welcome to help keep ERUUF's gardens beau
 tiful and neat. Garden Saturdays occur every 2nd Saturday of the month.  C
 heck enews for times as they vary with the seasons.For more information\, 
 reach out to Barbara Beaman.  https://www.eruuf.org/calendar/calendar-even
 ts/event/13854-gardening-saturday.html
DTSTART:20240713T130000Z
DTEND:20240713T160000Z
LOCATION:ERUUF Campus   (4907 Garrett Rd\, Durham\, NC 27707    )
SUMMARY:Gardening Saturday
URL:https://www.eruuf.org/calendar/calendar-events/event/13854-gardening-sa
 turday.html
END:VEVENT
END:VCALENDAR
