BEGIN:VCALENDAR
VERSION:2.0
PRODID:-//https://www.eruuf.org///NONSGML kigkonsult.se iCalcreator 2.10.15//
METHOD:PUBLISH
BEGIN:VEVENT
UID:20260420T105502UTC-12836UmDDo@https://www.eruuf.org/
DTSTAMP:20260420T105502Z
DESCRIPTION:Spirituality without Truth Claims\nBritt Hartley is a “deconstr
 ucted Mormon” who now describes herself as an “atheist spiritual director.
 ” She emphasizes a lens that views religion as a cognitive technology that
  has had thousands of years to learn how to provide some elements that are
  critical to leading a meaningful life. She suggests that the secular comm
 unity has much to learn about meeting basic human needs such as providing 
 community\, facing existential fears\, honoring the rhythms of life\, and 
 providing moral education. She advocates for nonreligious people to steal 
 back “the good stuff” from religion.\nIn preparation for our session\, we 
 recommend viewing 'Britt Hartley’s recent interview'. It’s just under 40 m
 inutes long and well worth your time.\nReach out to the Nontheist Group fo
 r more information. \nClick Here to Register https://www.eruuf.org/calenda
 r/calendar-events/event/15234-nontheist-group-virtual-meeting.html
DTSTART:20260317T230000Z
DTEND:20260318T003000Z
LOCATION:Online  (Online meetings are organized by the group leader. See th
 e meeting event details for information on how to join.)
SUMMARY:Nontheist Group (Virtual Meeting)
URL:https://www.eruuf.org/calendar/calendar-events/event/15234-nontheist-gr
 oup-virtual-meeting.html
END:VEVENT
END:VCALENDAR
