BEGIN:VCALENDAR
VERSION:2.0
PRODID:-//https://www.eruuf.org///NONSGML kigkonsult.se iCalcreator 2.10.15//
METHOD:PUBLISH
BEGIN:VEVENT
UID:20260419T125233UTC-7748Dmrosp@https://www.eruuf.org/
DTSTAMP:20260419T125233Z
DESCRIPTION:Join us each week as a different ERUUFian speaks of their life 
 journey and what has been important\, meaningful\, and/or spiritual on tha
 t journey.\nFor more information\, reach out to the Adult Programs team.\n
  \nJune 15\, 2025 - Pam Watkins \nJune 22\, 2025 - Naa-Norley Adom\nJune 2
 9\, 2025 - Don Moffitt\nJuly 13\, 2025 - Susan Baylies\nJuly 20\, 2025 - D
 avid Young Oh\nJuly 27\, 2025 - Joyce Sykes\nAugust 3\, 2025 - Sharon Baga
 tell\nAugust 10\, 2025 - Sara Terry https://www.eruuf.org/calendar/calenda
 r-events/event/15250-spiritual-odyssey.html
DTSTART:20250629T130000Z
DTEND:20250629T140000Z
LOCATION:Commons Room   (4907 Garrett Rd\, Durham\, NC 27707  )
SUMMARY:Spiritual Odyssey
URL:https://www.eruuf.org/calendar/calendar-events/event/15250-spiritual-od
 yssey.html
END:VEVENT
END:VCALENDAR
