BEGIN:VCALENDAR
VERSION:2.0
PRODID:-//https://www.eruuf.org///NONSGML kigkonsult.se iCalcreator 2.10.15//
METHOD:PUBLISH
BEGIN:VEVENT
UID:20260420T033334UTC-3532tmL14M@https://www.eruuf.org/
DTSTAMP:20260420T033334Z
DESCRIPTION:Community chorus open to all. No audition required!\nPlease con
 tact the Music Director\, Wendy Looker\, for more information. https://www
 .eruuf.org/calendar/calendar-events/event/15474-eno-river-singers-rehearsa
 l.html
DTSTART:20260319T230000Z
DTEND:20260320T003000Z
LOCATION:Sanctuary - ERUUF   (4907 Garrett Road\, Durham\, NC 27707  )
SUMMARY:Eno River Singers Rehearsal
URL:https://www.eruuf.org/calendar/calendar-events/event/15474-eno-river-si
 ngers-rehearsal.html
END:VEVENT
END:VCALENDAR
