BEGIN:VCALENDAR
VERSION:2.0
PRODID:-//https://www.eruuf.org///NONSGML kigkonsult.se iCalcreator 2.10.15//
METHOD:PUBLISH
BEGIN:VEVENT
UID:20260420T013101UTC-2107f8eBOW@https://www.eruuf.org/
DTSTAMP:20260420T013101Z
DESCRIPTION:Community chorus open to all. No audition required!\nPlease con
 tact the Music Director\, Wendy Looker\, for more information. https://www
 .eruuf.org/calendar/calendar-events/event/15476-eno-river-singers-rehearsa
 l.html
DTSTART:20260402T230000Z
DTEND:20260403T003000Z
LOCATION:Sanctuary - ERUUF   (4907 Garrett Road\, Durham\, NC 27707  )
SUMMARY:Eno River Singers Rehearsal
URL:https://www.eruuf.org/calendar/calendar-events/event/15476-eno-river-si
 ngers-rehearsal.html
END:VEVENT
END:VCALENDAR
