BEGIN:VCALENDAR
VERSION:2.0
PRODID:-//https://www.eruuf.org///NONSGML kigkonsult.se iCalcreator 2.10.15//
METHOD:PUBLISH
BEGIN:VEVENT
UID:20260420T071718UTC-6029BlpZFp@https://www.eruuf.org/
DTSTAMP:20260420T071718Z
DESCRIPTION:Community chorus open to all. No audition required!\nPlease con
 tact the Music Director\, Wendy Looker\, for more information. https://www
 .eruuf.org/calendar/calendar-events/event/15478-eno-river-singers-rehearsa
 l.html
DTSTART:20260416T230000Z
DTEND:20260417T003000Z
LOCATION:Sanctuary - ERUUF   (4907 Garrett Road\, Durham\, NC 27707  )
SUMMARY:Eno River Singers Rehearsal
URL:https://www.eruuf.org/calendar/calendar-events/event/15478-eno-river-si
 ngers-rehearsal.html
END:VEVENT
END:VCALENDAR
