BEGIN:VCALENDAR
VERSION:2.0
PRODID:-//https://www.eruuf.org///NONSGML kigkonsult.se iCalcreator 2.10.15//
METHOD:PUBLISH
BEGIN:VEVENT
UID:20260420T124634UTC-64180hjHIW@https://www.eruuf.org/
DTSTAMP:20260420T124634Z
DESCRIPTION:The 11:00 am – 12:10 pm service will offer a more traditional-s
 tyle service.\nFor Sunday\, January 25\, 2026\, we welcome you to attend o
 nline due to weather. The service will be livestreamed on YouTube.\nMasks 
 are optional for in-person attendance by congregants and participants.\nFo
 r more information about the service\, subscribe to our weekly E-News.  ht
 tps://www.eruuf.org/calendar/calendar-events/event/15670-sunday-service-11
 am.html
DTSTART:20260125T160000Z
DTEND:20260125T171000Z
LOCATION:Sanctuary - ERUUF   (4907 Garrett Road\, Durham\, NC 27707  )
SUMMARY:Sunday Service (11am) - ONLINE ONLY
URL:https://www.eruuf.org/calendar/calendar-events/event/15670-sunday-servi
 ce-11am.html
END:VEVENT
END:VCALENDAR
