BEGIN:VCALENDAR
VERSION:2.0
PRODID:-//https://www.eruuf.org///NONSGML kigkonsult.se iCalcreator 2.10.15//
METHOD:PUBLISH
BEGIN:VEVENT
UID:20260419T234949UTC-2117jO6DPx@https://www.eruuf.org/
DTSTAMP:20260419T234949Z
DESCRIPTION:Are you in Grades K - 3 and want to join the Sunshine Kids? Joi
 n us starting Sun.\, Sept. 7 between services.\nFor more information\, ple
 ase email sunshinekids@eruuf.org. https://www.eruuf.org/calendar/calendar-
 events/event/15786-sunshine-kids-choir-rehearsal.html
DTSTART:20260208T151500Z
DTEND:20260208T154500Z
LOCATION:ERUUF Campus   (4907 Garrett Rd\, Durham\, NC 27707    )
SUMMARY:Sunshine Kids Choir Rehearsal
URL:https://www.eruuf.org/calendar/calendar-events/event/15786-sunshine-kid
 s-choir-rehearsal.html
END:VEVENT
END:VCALENDAR
