BEGIN:VCALENDAR
VERSION:2.0
PRODID:-//https://www.eruuf.org///NONSGML kigkonsult.se iCalcreator 2.10.15//
METHOD:PUBLISH
BEGIN:VEVENT
UID:20260420T062417UTC-5279JTS1Es@https://www.eruuf.org/
DTSTAMP:20260420T062417Z
DESCRIPTION:Are you in Grades 4-8 and would like to participate in the Chal
 ice Singers? Join us starting Sun.\, Sept. 7 between services!\nFor more i
 nformation\, email chalicesingers@eruuf.org.  https://www.eruuf.org/calend
 ar/calendar-events/event/15823-chalice-singers-choir-rehearsal.html
DTSTART:20260301T151500Z
DTEND:20260301T155000Z
LOCATION:ERUUF Campus   (4907 Garrett Rd\, Durham\, NC 27707    )
SUMMARY:Chalice Singers Choir Rehearsal
URL:https://www.eruuf.org/calendar/calendar-events/event/15823-chalice-sing
 ers-choir-rehearsal.html
END:VEVENT
END:VCALENDAR
