BEGIN:VCALENDAR
VERSION:2.0
PRODID:-//https://www.eruuf.org///NONSGML kigkonsult.se iCalcreator 2.10.15//
METHOD:PUBLISH
BEGIN:VEVENT
UID:20260420T214938UTC-75567aKVVT@https://www.eruuf.org/
DTSTAMP:20260420T214938Z
DESCRIPTION:Connecting with other ERUUFians through stories of Unitarian Un
 iversalism. Join ERUUFians for an affirming story of Unitarian Universalis
 m from a UU minister.\nThose in attendance will engage and discuss the sto
 ry\, their views\, their lives\, and how they might feel it's impact.\n \n
 \nThis week:\nHow American Unitarians Got Their Name: Orthodoxy\, Heresy\,
  and the Possibility of Religious Liberalism\ntold by the Rev. Dr. Nicole 
 C. Kirk\, facilitated by the Adult Programs Team\n \nHow might the tale of
  how American Unitarians got their name help us reflect on orthodoxy\, her
 esy\, and our own paths today?\n\n \nClick here to RSVP. https://www.eruuf
 .org/calendar/calendar-events/event/16024-uu-stories-for-adults-adult-prog
 ram.html
DTSTART:20260215T180000Z
DTEND:20260215T193000Z
LOCATION:Chapel   ()
SUMMARY:UU Stories for Adults (Adult Program)
URL:https://www.eruuf.org/calendar/calendar-events/event/16024-uu-stories-f
 or-adults-adult-program.html
END:VEVENT
END:VCALENDAR
