BEGIN:VCALENDAR
VERSION:2.0
PRODID:-//https://www.eruuf.org///NONSGML kigkonsult.se iCalcreator 2.10.15//
METHOD:PUBLISH
BEGIN:VEVENT
UID:20260420T093656UTC-16686OPuVj@https://www.eruuf.org/
DTSTAMP:20260420T093656Z
DESCRIPTION:March 15 Session is:\nHow the First Selma March Connects to the
  Founding of ERUUF: A Call\, UU Martyrs\, and Change with Rev. Jacqueline 
 Brett\n \nConnecting with other ERUUFians through stories of Unitarian Uni
 versalism. Join ERUUFians for an affirming story of Unitarian Universalism
  from a UU minister.\nThose in attendance will engage and discuss the stor
 y\, their views\, their lives\, and how they might feel it's impact.\n \nC
 lick here to RSVP. https://www.eruuf.org/calendar/calendar-events/event/16
 027-uu-stories-for-adults-adult-program.html
DTSTART:20260315T170000Z
DTEND:20260315T183000Z
LOCATION:Chapel   ()
SUMMARY:UU Stories for Adults (Adult Program)
URL:https://www.eruuf.org/calendar/calendar-events/event/16027-uu-stories-f
 or-adults-adult-program.html
END:VEVENT
END:VCALENDAR
