BEGIN:VCALENDAR
VERSION:2.0
PRODID:-//https://www.eruuf.org///NONSGML kigkonsult.se iCalcreator 2.10.15//
METHOD:PUBLISH
BEGIN:VEVENT
UID:20260420T025722UTC-2719kLv6BO@https://www.eruuf.org/
DTSTAMP:20260420T025722Z
DESCRIPTION:Connecting with other ERUUFians through stories of Unitarian Un
 iversalism. Join ERUUFians for an affirming story of Unitarian Universalis
 m from a UU minister.\nThose in attendance will engage and discuss the sto
 ry\, their views\, their lives\, and how they might feel it's impact.\n \n
 Click here to RSVP. https://www.eruuf.org/calendar/calendar-events/event/1
 6144-uu-stories-for-adults-adult-program.html
DTSTART:20260329T170000Z
DTEND:20260329T183000Z
LOCATION:Chapel   ()
SUMMARY:UU Stories for Adults (Adult Program)
URL:https://www.eruuf.org/calendar/calendar-events/event/16144-uu-stories-f
 or-adults-adult-program.html
END:VEVENT
END:VCALENDAR
