BEGIN:VCALENDAR
VERSION:2.0
PRODID:-//https://www.eruuf.org///NONSGML kigkonsult.se iCalcreator 2.10.15//
METHOD:PUBLISH
BEGIN:VEVENT
UID:20260420T041951UTC-9076nDgMEf@https://www.eruuf.org/
DTSTAMP:20260420T041951Z
DESCRIPTION:Join us for our quarterly Communion Service - a simple service 
 of sharing bread and wine (or grape juice) in memory of Jesus and his mini
 stry. We will also continue our discussion of religious historian Elaine P
 agels' 'Miracles and Wonder' with Chapter 3 (What is the Good News? How th
 e Message of 'God's Kingdom' Morphs into 'Jesus Is God!'). But don't worry
  if you haven't read the book!\nContact us at christianfellowship@eruuf.or
 g for more information. https://www.eruuf.org/calendar/calendar-events/eve
 nt/16162-eruuf-christian-fellowship-meeting.html
DTSTART:20260414T230000Z
DTEND:20260415T003000Z
LOCATION:Room 3 - CARE Building ()
SUMMARY:ERUUF Christian Fellowship Meeting
URL:https://www.eruuf.org/calendar/calendar-events/event/16162-eruuf-christ
 ian-fellowship-meeting.html
END:VEVENT
END:VCALENDAR
