BEGIN:VCALENDAR
VERSION:2.0
PRODID:-//https://www.eruuf.org///NONSGML kigkonsult.se iCalcreator 2.10.15//
METHOD:PUBLISH
BEGIN:VEVENT
UID:20260420T044822UTC-5393Ap0NHB@https://www.eruuf.org/
DTSTAMP:20260420T044822Z
DESCRIPTION:Join us for an informal service of readings and prayers.\nConta
 ct us at christianfellowship@eruuf.org for more information. https://www.e
 ruuf.org/calendar/calendar-events/event/16172-eruuf-christian-fellowship-m
 eeting.html
DTSTART:20270210T000000Z
DTEND:20270210T023000Z
LOCATION:Room 3 - CARE Building ()
SUMMARY:ERUUF Christian Fellowship Meeting
URL:https://www.eruuf.org/calendar/calendar-events/event/16172-eruuf-christ
 ian-fellowship-meeting.html
END:VEVENT
END:VCALENDAR
