BEGIN:VCALENDAR
VERSION:2.0
PRODID:-//https://www.eruuf.org///NONSGML kigkonsult.se iCalcreator 2.10.15//
METHOD:PUBLISH
BEGIN:VEVENT
UID:20260421T051430UTC-5157vXV4IO@https://www.eruuf.org/
DTSTAMP:20260421T051430Z
DESCRIPTION:In preparation for April Earth & Climate Justice Month\, the Ea
 rth Justice Action Group is again joining with the ERUUF Book Club for an 
 online book discussion group. We're exploring a fascinating book: The Inve
 ntion of Nature: Alexander von Humboldt's New World by Andrea Wulf. Inexpe
 nsive used copies are widely available. The Zoom link will be available a 
 few days before the event.\nFor questions or to receive the Zoom link\, pl
 ease contact the ERUUF Book Club. https://www.eruuf.org/calendar/calendar-
 events/event/16190-earth-justice-book-discussion-the-invention-of-nature.h
 tml
DTSTART:20260317T230000Z
DTEND:20260318T003000Z
LOCATION:Online  (Online meetings are organized by the group leader. See th
 e meeting event details for information on how to join.)
SUMMARY:Earth Justice - Book Discussion: The Invention of Nature
URL:https://www.eruuf.org/calendar/calendar-events/event/16190-earth-justic
 e-book-discussion-the-invention-of-nature.html
END:VEVENT
END:VCALENDAR
