BEGIN:VCALENDAR
VERSION:2.0
PRODID:-//https://www.eruuf.org///NONSGML kigkonsult.se iCalcreator 2.10.15//
METHOD:PUBLISH
BEGIN:VEVENT
UID:20260419T202242UTC-61175hFGUf@https://www.eruuf.org/
DTSTAMP:20260419T202242Z
DESCRIPTION:An Artist Reception for Gemynii will be held from 5:30 to 7:30 
 pm on Friday\, March 20. Come and meet the artist. Wine and cheese will be
  served.\nFor more information\, contact The Art Gallery Team. https://www
 .eruuf.org/calendar/calendar-events/event/16194-artist-reception-in-living
 -color-portraits-by-gemynii.html
DTSTART:20260320T213000Z
DTEND:20260320T233000Z
LOCATION:Art Gallery ()
SUMMARY:Artist Reception: In Living Color\, Portraits by Gemynii
URL:https://www.eruuf.org/calendar/calendar-events/event/16194-artist-recep
 tion-in-living-color-portraits-by-gemynii.html
END:VEVENT
END:VCALENDAR
