BEGIN:VCALENDAR
VERSION:2.0
PRODID:-//https://www.eruuf.org///NONSGML kigkonsult.se iCalcreator 2.10.15//
METHOD:PUBLISH
BEGIN:VEVENT
UID:20260419T185253UTC-6605VuBUAn@https://www.eruuf.org/
DTSTAMP:20260419T185253Z
DESCRIPTION:Join Earth Justice for our monthly vegan Friday night potluck s
 upper and movie showing. 6:30-7:00 Potluck vegan supper 7:00-8:30 Movie: '
 Why the Food System Is About to Collapse' -- Interview with Tim Benton\, l
 eading expert on global food security\, to understand what’s driving the c
 ollapse of our food systems — and what it would take to build something tr
 uly regenerative.\nFor more information\, contact the Earth Justice Team. 
 https://www.eruuf.org/calendar/calendar-events/event/16210-earth-justice-f
 ilm-potluck.html
DTSTART:20260327T223000Z
DTEND:20260328T004500Z
LOCATION:Fellowship Hall   ()
SUMMARY:Earth Justice Film & Potluck
URL:https://www.eruuf.org/calendar/calendar-events/event/16210-earth-justic
 e-film-potluck.html
END:VEVENT
END:VCALENDAR
