BEGIN:VCALENDAR
VERSION:2.0
PRODID:-//https://www.eruuf.org///NONSGML kigkonsult.se iCalcreator 2.10.15//
METHOD:PUBLISH
BEGIN:VEVENT
UID:20260424T192459UTC-4084Lhp8Hv@https://www.eruuf.org/
DTSTAMP:20260424T192459Z
DESCRIPTION:The Infuusions Giving Circle meets quarterly and is a way of co
 mbining and researching charitable donations to local organizations that m
 eet our mission of enriching daily lives and/or enhancing life skills. Inf
 uusions welcomes new members and invites interested persons to attend this
  meeting.\nFor more information or questions\, contact Peter Romeyn. https
 ://www.eruuf.org/calendar/next-week/event/15064-infuusions-giving-circle.h
 tml
DTSTART:20250427T170000Z
DTEND:20250427T190000Z
LOCATION:Room 1 - CARE Building ()
SUMMARY:InfUUsions Giving Circle 
URL:https://www.eruuf.org/calendar/next-week/event/15064-infuusions-giving-
 circle.html
END:VEVENT
END:VCALENDAR
