BEGIN:VCALENDAR
VERSION:2.0
PRODID:-//https://www.eruuf.org///NONSGML kigkonsult.se iCalcreator 2.10.15//
METHOD:PUBLISH
BEGIN:VEVENT
UID:20260423T002017UTC-0334VjrkHk@https://www.eruuf.org/
DTSTAMP:20260423T002017Z
DESCRIPTION:For more information\, email the Mah-jongg group and check out 
 the website. https://www.eruuf.org/connect/events-small-groups/event/14010
 -mah-jongg-affinity-group.html
DTSTART:20240528T140000Z
DTEND:20240528T160000Z
LOCATION:CARE Building\, Room 4/5 (4907 Garrett Road)
SUMMARY:Mah-jongg Affinity Group
URL:https://www.eruuf.org/connect/events-small-groups/event/14010-mah-jongg
 -affinity-group.html
END:VEVENT
END:VCALENDAR
