BEGIN:VCALENDAR
VERSION:2.0
PRODID:-//https://www.eruuf.org///NONSGML kigkonsult.se iCalcreator 2.10.15//
METHOD:PUBLISH
BEGIN:VEVENT
UID:20260420T070208UTC-15180Zev7J@https://www.eruuf.org/
DTSTAMP:20260420T070208Z
DESCRIPTION:We are a community of non-theists within the Unitarian Universa
 list tradition. Together\, we explore the human experience and support eac
 h other in personal growth and in working toward the greater good. \nFor m
 ore information\, please reach out to the Nontheist Group.  https://www.er
 uuf.org/connect/events-small-groups/event/14561-nontheist-group.html
DTSTART:20240908T170000Z
DTEND:20240908T183000Z
LOCATION:ERUUF Commons Room (4907 Garrett Road)
SUMMARY:Nontheist Group
URL:https://www.eruuf.org/connect/events-small-groups/event/14561-nontheist
 -group.html
END:VEVENT
END:VCALENDAR
