BEGIN:VCALENDAR
VERSION:2.0
PRODID:-//https://www.eruuf.org///NONSGML kigkonsult.se iCalcreator 2.10.15//
METHOD:PUBLISH
BEGIN:VEVENT
UID:20260419T185545UTC-96896p6Oam@https://www.eruuf.org/
DTSTAMP:20260419T185545Z
DESCRIPTION:Note Summer time: 12:00pm (noon) or as soon as the Inquirers Cl
 ass finishes\n \nWhat is the Separation of Church and State? Join our disc
 ussion of this legal doctrine along with a few U.S. Supreme Court cases cu
 rrently being decided. An inital source for information is https://www.au.
 org/why-religious-freedom-matters/. \nWe are a community of non-theists wi
 thin the Unitarian Universalist tradition. Together\, we explore the human
  experience and support each other in personal growth and in working towar
 d the greater good. \nFor more information\, please reach out to the Nonth
 eist Group.  https://www.eruuf.org/connect/events-small-groups/event/14570
 -nontheist-group.html
DTSTART:20250608T163000Z
DTEND:20250608T180000Z
LOCATION:ERUUF Commons Room (4907 Garrett Road)
SUMMARY:Nontheist Group
URL:https://www.eruuf.org/connect/events-small-groups/event/14570-nontheist
 -group.html
END:VEVENT
END:VCALENDAR
