BEGIN:VCALENDAR
VERSION:2.0
PRODID:-//https://www.eruuf.org///NONSGML kigkonsult.se iCalcreator 2.10.15//
METHOD:PUBLISH
BEGIN:VEVENT
UID:20260420T040442UTC-77148jeVZC@https://www.eruuf.org/
DTSTAMP:20260420T040442Z
DESCRIPTION:Remote meeting of the Nontheist Group. All are welcome to join!
 \nERUUF's Nontheist Group will resume our regular second Sunday (in-person
 ) and third Tuesday (virtual) meetings this month. We will discuss Bonnie 
 Garmus' award-winning (not to mention fun to read) novel\, Lessons in Chem
 istry\, which features a female chemist in the 1950s who just happens to b
 e an unabashed atheist. We will also discuss ideas for upcoming meeting to
 pics.\nReach out to the Nontheist Group for more information and RSVP belo
 w to recieve the Zoom link. \nRSVP\nPlease be aware that our IN-PERSON mee
 tings will start on Oct. 13th at 1 PM in the Commons Room of the CARE buil
 ding at ERUUF. Our VIRTUAL meetings will be at 7 PM starting on Oct. 15th.
  October is one of the few times in the year when the 2nd Sunday and the 3
 rd Tuesday occur in the same week.\n  https://www.eruuf.org/connect/events
 -small-groups/event/14715-nontheist-group-virtual-meeting.html
DTSTART:20241015T230000Z
DTEND:20241016T003000Z
LOCATION:Online  (Online meetings are organized by the group leader. See th
 e meeting event details for information on how to join.)
SUMMARY:Nontheist Group (Virtual Meeting)
URL:https://www.eruuf.org/connect/events-small-groups/event/14715-nontheist
 -group-virtual-meeting.html
END:VEVENT
END:VCALENDAR
