BEGIN:VCALENDAR
VERSION:2.0
PRODID:-//https://www.eruuf.org///NONSGML kigkonsult.se iCalcreator 2.10.15//
METHOD:PUBLISH
BEGIN:VEVENT
UID:20260419T185516UTC-0159XweaPw@https://www.eruuf.org/
DTSTAMP:20260419T185516Z
DESCRIPTION:The Eno River Drum Circle focuses on exploring different drummi
 ng traditions and creating new ones. We’re an inclusive\, fun\, and rhythm
 ic community that welcomes drummers of all style and stripe. No experience
  is necessary!\nTypically\, the first half-hour will focus on lessons and 
 demonstrating rhythms and instruments.\nFor more information\, reach out t
 o Cliff Missen.  https://www.eruuf.org/connect/events-small-groups/event/1
 4776-eno-river-drum-circle.html
DTSTART:20240912T230000Z
DTEND:20240913T010000Z
LOCATION:ERUUF Commons Room (4907 Garrett Road)
SUMMARY:Eno River Drum Circle
URL:https://www.eruuf.org/connect/events-small-groups/event/14776-eno-river
 -drum-circle.html
END:VEVENT
END:VCALENDAR
