BEGIN:VCALENDAR
VERSION:2.0
PRODID:-//https://www.eruuf.org///NONSGML kigkonsult.se iCalcreator 2.10.15//
METHOD:PUBLISH
BEGIN:VEVENT
UID:20260419T235108UTC-8973VKTGTH@https://www.eruuf.org/
DTSTAMP:20260419T235108Z
DESCRIPTION:\n 'Folk music is the music we need to make...'\nArtist-in-Resi
 dence concert featuring hip-hop banjo player Justin 'Demeanor' Harrington\
 , with VZN featuring Rashaad Tucker\, Tarik Tucker\, Daniel Carr\, Ramon G
 arcia and Rick Thit.\nSanctuary Doors open at 6. Free and open to the publ
 ic!\nA brief reception celebrating the ERUUF Artist-in-Residence Program a
 nd the conclusion of Demeanor's residency will follow the concert in the F
 ellowship Hall. \nThe Artist-in-Residence Program is funded by a grant fro
 m the Eno River Fellowship Foundation\nFor more information\, reach out to
  the ERUUF Office or ERUUF's Music Director\, Wendy Looker.  https://www.e
 ruuf.org/connect/events-small-groups/event/15053-artist-in-residence-conce
 rt-ft-justin-demeanor-harrington.html
DTSTART:20250531T230000Z
DTEND:20250601T010000Z
LOCATION:Sanctuary - ERUUF   (4907 Garrett Road\, Durham\, NC 27707  )
SUMMARY:Artist-in-Residence Concert ft. Justin 'Demeanor' Harrington
URL:https://www.eruuf.org/connect/events-small-groups/event/15053-artist-in
 -residence-concert-ft-justin-demeanor-harrington.html
END:VEVENT
END:VCALENDAR
