BEGIN:VCALENDAR
VERSION:2.0
PRODID:-//https://www.eruuf.org///NONSGML kigkonsult.se iCalcreator 2.10.15//
METHOD:PUBLISH
BEGIN:VEVENT
UID:20260420T171739UTC-3953vKFLAA@https://www.eruuf.org/
DTSTAMP:20260420T171739Z
DESCRIPTION:All are welcome! The BCC focuses on music of the Black diaspora
  in the U.S. and celebrates the oral tradition. \nFor more information\, e
 mail Music Director\, Wendy Looker. https://www.eruuf.org/connect/events-s
 mall-groups/event/15180-beloved-community-chorus-rehearsal.html
DTSTART:20250715T230000Z
DTEND:20250716T003000Z
LOCATION:ERUUF Commons Room (4907 Garrett Road)
SUMMARY:Beloved Community Chorus Rehearsal
URL:https://www.eruuf.org/connect/events-small-groups/event/15180-beloved-c
 ommunity-chorus-rehearsal.html
END:VEVENT
END:VCALENDAR
