BEGIN:VCALENDAR
VERSION:2.0
PRODID:-//https://www.eruuf.org///NONSGML kigkonsult.se iCalcreator 2.10.15//
METHOD:PUBLISH
BEGIN:VEVENT
UID:20260422T132106UTC-03257DK2Nz@https://www.eruuf.org/
DTSTAMP:20260422T132106Z
DESCRIPTION:All are welcome! The BCC focuses on music of the Black diaspora
  in the U.S. and celebrates the oral tradition. \nFor more information\, e
 mail Music Director\, Wendy Looker. https://www.eruuf.org/connect/events-s
 mall-groups/event/15189-beloved-community-chorus-rehearsal.html
DTSTART:20251007T230000Z
DTEND:20251008T003000Z
LOCATION:ERUUF Commons Room (4907 Garrett Road)
SUMMARY:Beloved Community Chorus Rehearsal
URL:https://www.eruuf.org/connect/events-small-groups/event/15189-beloved-c
 ommunity-chorus-rehearsal.html
END:VEVENT
END:VCALENDAR
