BEGIN:VCALENDAR
VERSION:2.0
PRODID:-//https://www.eruuf.org///NONSGML kigkonsult.se iCalcreator 2.10.15//
METHOD:PUBLISH
BEGIN:VEVENT
UID:20260423T004913UTC-4075EBujbL@https://www.eruuf.org/
DTSTAMP:20260423T004913Z
DESCRIPTION:Remote meeting of the Nontheist Group. All are welcome to join!
 \nReach out to the Nontheist Group for more information and to recieve the
  Zoom link.  https://www.eruuf.org/connect/events-small-groups/event/15226
 -nontheist-group-virtual-meeting.html
DTSTART:20250715T230000Z
DTEND:20250716T003000Z
LOCATION:Online  (Online meetings are organized by the group leader. See th
 e meeting event details for information on how to join.)
SUMMARY:Nontheist Group (Virtual Meeting)
URL:https://www.eruuf.org/connect/events-small-groups/event/15226-nontheist
 -group-virtual-meeting.html
END:VEVENT
END:VCALENDAR
