BEGIN:VCALENDAR
VERSION:2.0
PRODID:-//https://www.eruuf.org///NONSGML kigkonsult.se iCalcreator 2.10.15//
METHOD:PUBLISH
BEGIN:VEVENT
UID:20260422T185842UTC-1053dalM8o@https://www.eruuf.org/
DTSTAMP:20260422T185842Z
DESCRIPTION:Join in to celebrate the longest day of the year on Summer Sols
 tice.\nAs we celebrate this longest day of the year\, we are happy to have
  an herbalist guest presenter with us. Lea Clayton\, founder of GreenHeart
  Healing Arts\, will lead a plant meditation\, and teach us about healing 
 herbs\, one of the bounties of the earth.\nLea offers one-on-one clinical 
 herbal consultations and leads group classes in herbal medicine at her gar
 den and apothecary in Saxapahaw\, NC.  www.greenheartnc.com to learn more 
 and if you’d like to be added to her mailing list.\nThis is a participator
 y gathering open to all those ages 16 and older\, and to children ages 15 
 and younger who are accompanied by a parent\, guardian\, or adult companio
 n.\nFor more information\, reach out to the Eno River CUUPS. https://www.e
 ruuf.org/connect/events-small-groups/event/15268-summer-solstice-celebrati
 on.html
DTSTART:20250622T163000Z
DTEND:20250622T183000Z
LOCATION:ERUUF Fellowship Hall (4907 Garrett Road)
SUMMARY:Litha/Summer Solstice Celebration w/Eno River CUUPS
URL:https://www.eruuf.org/connect/events-small-groups/event/15268-summer-so
 lstice-celebration.html
END:VEVENT
END:VCALENDAR
