BEGIN:VCALENDAR
VERSION:2.0
PRODID:-//https://www.eruuf.org///NONSGML kigkonsult.se iCalcreator 2.10.15//
METHOD:PUBLISH
BEGIN:VEVENT
UID:20260421T175400UTC-5700H61lLJ@https://www.eruuf.org/
DTSTAMP:20260421T175400Z
DESCRIPTION:Community chorus open to all. No audition required!\nPlease con
 tact the Music Director\, Wendy Looker\, for more information. https://www
 .eruuf.org/connect/events-small-groups/event/15443-eno-river-singers-rehea
 rsal.html
DTSTART:20250814T230000Z
DTEND:20250815T003000Z
LOCATION:Sanctuary - ERUUF   (4907 Garrett Road\, Durham\, NC 27707  )
SUMMARY:Eno River Singers Rehearsal
URL:https://www.eruuf.org/connect/events-small-groups/event/15443-eno-river
 -singers-rehearsal.html
END:VEVENT
END:VCALENDAR
