BEGIN:VCALENDAR
VERSION:2.0
PRODID:-//https://www.eruuf.org///NONSGML kigkonsult.se iCalcreator 2.10.15//
METHOD:PUBLISH
BEGIN:VEVENT
UID:20260423T111422UTC-0098GXVf2i@https://www.eruuf.org/
DTSTAMP:20260423T111422Z
DESCRIPTION:Join the Trans @ ERUUF group for conversations on the trans and
  nonbinary experience both at ERUUF and in the larger world.\nFor more inf
 ormation\, please email transgroup@eruuf.org. https://www.eruuf.org/connec
 t/events-small-groups/event/16052-trans-eruuf.html
DTSTART:20260118T173000Z
DTEND:20260118T190000Z
LOCATION:Room 3 - CARE Building ()
SUMMARY:Trans @ ERUUF
URL:https://www.eruuf.org/connect/events-small-groups/event/16052-trans-eru
 uf.html
END:VEVENT
END:VCALENDAR
