BEGIN:VCALENDAR
VERSION:2.0
PRODID:-//https://www.eruuf.org///NONSGML kigkonsult.se iCalcreator 2.10.15//
METHOD:PUBLISH
BEGIN:VEVENT
UID:20260420T005612UTC-6173TrvenB@https://www.eruuf.org/
DTSTAMP:20260420T005612Z
DESCRIPTION:Join us for an informal service of readings and prayers.\nConta
 ct us at christianfellowship@eruuf.org for more information. https://www.e
 ruuf.org/connect/events-small-groups/event/16170-eruuf-christian-fellowshi
 p-meeting.html
DTSTART:20261209T000000Z
DTEND:20261209T023000Z
LOCATION:Room 3 - CARE Building ()
SUMMARY:ERUUF Christian Fellowship Meeting
URL:https://www.eruuf.org/connect/events-small-groups/event/16170-eruuf-chr
 istian-fellowship-meeting.html
END:VEVENT
END:VCALENDAR
