BEGIN:VCALENDAR
VERSION:2.0
PRODID:-//https://www.eruuf.org///NONSGML kigkonsult.se iCalcreator 2.10.15//
METHOD:PUBLISH
BEGIN:VEVENT
UID:20260419T131758UTC-9438BMRxlX@https://www.eruuf.org/
DTSTAMP:20260419T131758Z
DESCRIPTION:Join the ERUUF Jewish Fellowship for community and connection. 
 More details to come.\nFor more information\, contact the ERUUF Jewish Fel
 lowship. https://www.eruuf.org/connect/events-small-groups/event/16219-eru
 uf-jewish-fellowship-shabbat-potluck-dinner.html
DTSTART:20260508T220000Z
DTEND:20260509T000000Z
LOCATION:Commons Room  ()
SUMMARY:ERUUF Jewish Fellowship Shabbat Potluck Dinner
URL:https://www.eruuf.org/connect/events-small-groups/event/16219-eruuf-jew
 ish-fellowship-shabbat-potluck-dinner.html
END:VEVENT
END:VCALENDAR
