BEGIN:VCALENDAR
VERSION:2.0
PRODID:-//https://www.eruuf.org///NONSGML kigkonsult.se iCalcreator 2.10.15//
METHOD:PUBLISH
BEGIN:VEVENT
UID:20260420T013239UTC-5619Uu3CT1@https://www.eruuf.org/
DTSTAMP:20260420T013239Z
DESCRIPTION:The Chalice Singers vocal group is for youth in grades 4 to 8. 
 \nEmail the Chalice Singers group for more information.  https://www.eruuf
 .org/learn/children-youth-family/events-youth/event/14302-chalice-singers-
 rehearsals.html
DTSTART:20240922T141500Z
DTEND:20240922T145000Z
LOCATION:Music Room-ERUUF ()
SUMMARY:Chalice Singers Rehearsals
URL:https://www.eruuf.org/learn/children-youth-family/events-youth/event/14
 302-chalice-singers-rehearsals.html
END:VEVENT
END:VCALENDAR
