BEGIN:VCALENDAR
VERSION:2.0
PRODID:-//https://www.eruuf.org///NONSGML kigkonsult.se iCalcreator 2.10.15//
METHOD:PUBLISH
BEGIN:VEVENT
UID:20260419T184357UTC-6784K51VcC@https://www.eruuf.org/
DTSTAMP:20260419T184357Z
DESCRIPTION:The Chalice Singers vocal group is for youth in grades 4 to 8. 
 \nEmail the Chalice Singers group for more information.  https://www.eruuf
 .org/learn/children-youth-family/events-youth/event/14885-chalice-singers-
 rehearsals.html
DTSTART:20250511T141500Z
DTEND:20250511T145000Z
LOCATION:ERUUF Campus   (4907 Garrett Rd\, Durham\, NC 27707    )
SUMMARY:Chalice Singers Rehearsals
URL:https://www.eruuf.org/learn/children-youth-family/events-youth/event/14
 885-chalice-singers-rehearsals.html
END:VEVENT
END:VCALENDAR
